BEGIN:VCALENDAR
VERSION:2.0
PRODID:-//EWI of Omaha - ECPv6.15.20//NONSGML v1.0//EN
CALSCALE:GREGORIAN
METHOD:PUBLISH
X-WR-CALNAME:EWI of Omaha
X-ORIGINAL-URL:https://ewi-omaha.org
X-WR-CALDESC:Events for EWI of Omaha
REFRESH-INTERVAL;VALUE=DURATION:PT1H
X-Robots-Tag:noindex
X-PUBLISHED-TTL:PT1H
BEGIN:VTIMEZONE
TZID:America/Chicago
BEGIN:DAYLIGHT
TZOFFSETFROM:-0600
TZOFFSETTO:-0500
TZNAME:CDT
DTSTART:20220313T080000
END:DAYLIGHT
BEGIN:STANDARD
TZOFFSETFROM:-0500
TZOFFSETTO:-0600
TZNAME:CST
DTSTART:20221106T070000
END:STANDARD
BEGIN:DAYLIGHT
TZOFFSETFROM:-0600
TZOFFSETTO:-0500
TZNAME:CDT
DTSTART:20230312T080000
END:DAYLIGHT
BEGIN:STANDARD
TZOFFSETFROM:-0500
TZOFFSETTO:-0600
TZNAME:CST
DTSTART:20231105T070000
END:STANDARD
BEGIN:DAYLIGHT
TZOFFSETFROM:-0600
TZOFFSETTO:-0500
TZNAME:CDT
DTSTART:20240310T080000
END:DAYLIGHT
BEGIN:STANDARD
TZOFFSETFROM:-0500
TZOFFSETTO:-0600
TZNAME:CST
DTSTART:20241103T070000
END:STANDARD
BEGIN:DAYLIGHT
TZOFFSETFROM:-0600
TZOFFSETTO:-0500
TZNAME:CDT
DTSTART:20250309T080000
END:DAYLIGHT
BEGIN:STANDARD
TZOFFSETFROM:-0500
TZOFFSETTO:-0600
TZNAME:CST
DTSTART:20251102T070000
END:STANDARD
BEGIN:DAYLIGHT
TZOFFSETFROM:-0600
TZOFFSETTO:-0500
TZNAME:CDT
DTSTART:20260308T080000
END:DAYLIGHT
BEGIN:STANDARD
TZOFFSETFROM:-0500
TZOFFSETTO:-0600
TZNAME:CST
DTSTART:20261101T070000
END:STANDARD
END:VTIMEZONE
BEGIN:VEVENT
DTSTART;TZID=America/Chicago:20250423T173000
DTEND;TZID=America/Chicago:20250423T200000
DTSTAMP:20260423T092546
CREATED:20250508T152942Z
LAST-MODIFIED:20250603T192035Z
UID:5964-1745429400-1745438400@ewi-omaha.org
SUMMARY:EWI April Meeting
DESCRIPTION:EWI April Meeting
URL:https://ewi-omaha.org/event/ewi-april-meeting/
END:VEVENT
BEGIN:VEVENT
DTSTART;TZID=America/Chicago:20250326T173000
DTEND;TZID=America/Chicago:20250326T200000
DTSTAMP:20260423T092546
CREATED:20250304T205304Z
LAST-MODIFIED:20250304T205304Z
UID:5601-1743010200-1743019200@ewi-omaha.org
SUMMARY:EWI March Meeting
DESCRIPTION:EWI April Meeting
URL:https://ewi-omaha.org/event/ewi-march-meeting/
LOCATION:Pinnacle Bank\, 18081 Burt Street\, Omaha\, NE\, 68022\, United States
END:VEVENT
BEGIN:VEVENT
DTSTART;TZID=America/Chicago:20250226T173000
DTEND;TZID=America/Chicago:20250226T200000
DTSTAMP:20260423T092546
CREATED:20250213T200353Z
LAST-MODIFIED:20250213T200353Z
UID:5505-1740591000-1740600000@ewi-omaha.org
SUMMARY:February Chapter Meeting
DESCRIPTION:EWI April Meeting
URL:https://ewi-omaha.org/event/february-chapter-meeting-2/
LOCATION:CHI Health at The McAuley Fogelstrom Center\, 12809 West Dodge Road\, Omaha\, Nebraska\, 68154
END:VEVENT
BEGIN:VEVENT
DTSTART;TZID=America/Chicago:20250122T173000
DTEND;TZID=America/Chicago:20250122T200000
DTSTAMP:20260423T092546
CREATED:20250107T150445Z
LAST-MODIFIED:20250107T154930Z
UID:5344-1737567000-1737576000@ewi-omaha.org
SUMMARY:January Chapter Meeting
DESCRIPTION:EWI April Meeting
URL:https://ewi-omaha.org/event/january-chapter-meeting-2/
LOCATION:Hy-Vee\, 747 N 132nd St.\, Omaha\, Nebraska\, 68154
END:VEVENT
BEGIN:VEVENT
DTSTART;TZID=America/Chicago:20241218T173000
DTEND;TZID=America/Chicago:20241218T200000
DTSTAMP:20260423T092546
CREATED:20241127T160052Z
LAST-MODIFIED:20241127T160257Z
UID:5197-1734543000-1734552000@ewi-omaha.org
SUMMARY:December Chapter Meeting
DESCRIPTION:EWI April Meeting
URL:https://ewi-omaha.org/event/december-meeting/
END:VEVENT
BEGIN:VEVENT
DTSTART;TZID=America/Chicago:20241120T173000
DTEND;TZID=America/Chicago:20241120T190000
DTSTAMP:20260423T092546
CREATED:20241108T150145Z
LAST-MODIFIED:20241108T150145Z
UID:5122-1732123800-1732129200@ewi-omaha.org
SUMMARY:November Chapter Meeting
DESCRIPTION:EWI April Meeting
URL:https://ewi-omaha.org/event/november-chapter-meeting/
END:VEVENT
BEGIN:VEVENT
DTSTART;TZID=America/Chicago:20241114T170000
DTEND;TZID=America/Chicago:20241114T200000
DTSTAMP:20260423T092546
CREATED:20241108T145909Z
LAST-MODIFIED:20241108T150241Z
UID:5119-1731603600-1731614400@ewi-omaha.org
SUMMARY:Darlis Vauble Fundraiser
DESCRIPTION:EWI April Meeting
URL:https://ewi-omaha.org/event/darlis-vauble-fundraiser/
END:VEVENT
BEGIN:VEVENT
DTSTART;TZID=America/Chicago:20241002T173000
DTEND;TZID=America/Chicago:20241002T200000
DTSTAMP:20260423T092546
CREATED:20240910T222429Z
LAST-MODIFIED:20240910T222429Z
UID:4841-1727890200-1727899200@ewi-omaha.org
SUMMARY:Board Installation (September Meeting moved to October 2nd)
DESCRIPTION:EWI April Meeting
URL:https://ewi-omaha.org/event/board-installation-september-meeting-moved-to-october-2nd/
LOCATION:Omaha Steaks\, 11030 O Street\, Omaha\, NE\, 68137\, United States
END:VEVENT
BEGIN:VEVENT
DTSTART;VALUE=DATE:20240918
DTEND;VALUE=DATE:20240922
DTSTAMP:20260423T092546
CREATED:20240621T151954Z
LAST-MODIFIED:20240621T151954Z
UID:4518-1726617600-1726963199@ewi-omaha.org
SUMMARY:2024 LCAM
DESCRIPTION:EWI April Meeting
URL:https://ewi-omaha.org/event/2024-lcam/
END:VEVENT
BEGIN:VEVENT
DTSTART;TZID=America/Chicago:20240910T173000
DTEND;TZID=America/Chicago:20240910T190000
DTSTAMP:20260423T092546
CREATED:20240621T152254Z
LAST-MODIFIED:20240621T152254Z
UID:4523-1725989400-1725994800@ewi-omaha.org
SUMMARY:September Board Meeting
DESCRIPTION:EWI April Meeting
URL:https://ewi-omaha.org/event/september-board-meeting/
LOCATION:Bland & Associates\, 450 Regency Parkway\, Suite 340\, Omaha\, NE\, 68114\, United States
END:VEVENT
BEGIN:VEVENT
DTSTART;TZID=America/Chicago:20240828T173000
DTEND;TZID=America/Chicago:20240828T203000
DTSTAMP:20260423T092546
CREATED:20240621T151904Z
LAST-MODIFIED:20240621T151904Z
UID:4514-1724866200-1724877000@ewi-omaha.org
SUMMARY:Dollars for Scholars - Trivia Night
DESCRIPTION:EWI April Meeting
URL:https://ewi-omaha.org/event/dollars-for-scholars-trivia-night/
LOCATION:A View on State\, 13467 State Street\, Omaha\, NE\, 68142\, United States
END:VEVENT
BEGIN:VEVENT
DTSTART;TZID=America/Chicago:20240813T173000
DTEND;TZID=America/Chicago:20240813T190000
DTSTAMP:20260423T092546
CREATED:20240621T151620Z
LAST-MODIFIED:20240621T151620Z
UID:4512-1723570200-1723575600@ewi-omaha.org
SUMMARY:August Board Meeting
DESCRIPTION:EWI April Meeting
URL:https://ewi-omaha.org/event/august-board-meeting/
LOCATION:Bland & Associates\, 450 Regency Parkway\, Suite 340\, Omaha\, NE\, 68114\, United States
END:VEVENT
BEGIN:VEVENT
DTSTART;TZID=America/Chicago:20240725T173000
DTEND;TZID=America/Chicago:20240725T193000
DTSTAMP:20260423T092546
CREATED:20240621T151527Z
LAST-MODIFIED:20240621T151527Z
UID:4509-1721928600-1721935800@ewi-omaha.org
SUMMARY:July Chapter Meeting
DESCRIPTION:EWI April Meeting
URL:https://ewi-omaha.org/event/july-chapter-meeting-2/
LOCATION:BlueCross BlueShield of  Nebrask\, 1919 Ak-Sar-Ben Drive\, Omaha\, NE\, 68180\, United States
END:VEVENT
BEGIN:VEVENT
DTSTART;TZID=America/Chicago:20240716T173000
DTEND;TZID=America/Chicago:20240716T190000
DTSTAMP:20260423T092546
CREATED:20240621T151239Z
LAST-MODIFIED:20240621T151239Z
UID:4507-1721151000-1721156400@ewi-omaha.org
SUMMARY:July Board Meeting
DESCRIPTION:EWI April Meeting
URL:https://ewi-omaha.org/event/july-board-meeting-2/
LOCATION:Bland & Associates\, 450 Regency Parkway\, Suite 340\, Omaha\, NE\, 68114\, United States
END:VEVENT
BEGIN:VEVENT
DTSTART;TZID=America/Chicago:20240626T173000
DTEND;TZID=America/Chicago:20240626T193000
DTSTAMP:20260423T092546
CREATED:20240621T151126Z
LAST-MODIFIED:20240621T151126Z
UID:4504-1719423000-1719430200@ewi-omaha.org
SUMMARY:June Chapter Meeting
DESCRIPTION:EWI April Meeting
URL:https://ewi-omaha.org/event/june-chapter-meeting/
LOCATION:Outlook Nebraska\, 4125 S 72nd St\, Omaha\, NE\, 68127\, United States
END:VEVENT
BEGIN:VEVENT
DTSTART;VALUE=DATE:20240530
DTEND;VALUE=DATE:20240531
DTSTAMP:20260423T092546
CREATED:20240528T203137Z
LAST-MODIFIED:20240528T203137Z
UID:4357-1717027200-1717113599@ewi-omaha.org
SUMMARY:Dine to Donate
DESCRIPTION:EWI April Meeting
URL:https://ewi-omaha.org/event/dine-to-donate/
LOCATION:Texas Roadhouse\, 520 N 155th Plaza\, Omaha\, NE\, United States
END:VEVENT
BEGIN:VEVENT
DTSTART;TZID=America/Chicago:20240522T170000
DTEND;TZID=America/Chicago:20240522T193000
DTSTAMP:20260423T092546
CREATED:20240503T123414Z
LAST-MODIFIED:20240503T123414Z
UID:4225-1716397200-1716406200@ewi-omaha.org
SUMMARY:ASIST Banquet & Chapter Meeting
DESCRIPTION:EWI April Meeting
URL:https://ewi-omaha.org/event/asist-banquet-chapter-meeting/
LOCATION:Pitch in Dundee\, 5021 Underwood\, Omaha\, NE\, United States
END:VEVENT
BEGIN:VEVENT
DTSTART;TZID=America/Chicago:20240514T173000
DTEND;TZID=America/Chicago:20240514T183000
DTSTAMP:20260423T092546
CREATED:20240503T123217Z
LAST-MODIFIED:20240503T123217Z
UID:4222-1715707800-1715711400@ewi-omaha.org
SUMMARY:Board Meeting
DESCRIPTION:EWI April Meeting
URL:https://ewi-omaha.org/event/board-meeting-7/
LOCATION:Bland & Associates\, 450 Regency Parkway\, Suite 340\, Omaha\, NE\, 68114\, United States
END:VEVENT
BEGIN:VEVENT
DTSTART;TZID=America/Chicago:20231115T173000
DTEND;TZID=America/Chicago:20231115T193000
DTSTAMP:20260423T092546
CREATED:20231026T214103Z
LAST-MODIFIED:20231026T214103Z
UID:3524-1700069400-1700076600@ewi-omaha.org
SUMMARY:Chapter Meeting
DESCRIPTION:EWI April Meeting
URL:https://ewi-omaha.org/event/chapter-meeting-2/
LOCATION:The Winery\, 741 N. 98th St.\, Omaha\, NE\, 68114\, United States
END:VEVENT
BEGIN:VEVENT
DTSTART;TZID=America/Chicago:20231114T173000
DTEND;TZID=America/Chicago:20231114T183000
DTSTAMP:20260423T092546
CREATED:20231026T213713Z
LAST-MODIFIED:20231026T213713Z
UID:3522-1699983000-1699986600@ewi-omaha.org
SUMMARY:Board Meeting
DESCRIPTION:EWI April Meeting
URL:https://ewi-omaha.org/event/board-meeting-6/
LOCATION:Bland & Associates\, 450 Regency Parkway\, Suite 340\, Omaha\, NE\, 68114\, United States
END:VEVENT
BEGIN:VEVENT
DTSTART;TZID=America/Chicago:20231025T173000
DTEND;TZID=America/Chicago:20231025T193000
DTSTAMP:20260423T092546
CREATED:20231009T204900Z
LAST-MODIFIED:20231009T204924Z
UID:3454-1698255000-1698262200@ewi-omaha.org
SUMMARY:Chapter Business Meeting
DESCRIPTION:EWI April Meeting
URL:https://ewi-omaha.org/event/chapter-business-meeting/
LOCATION:WoodmenLife\, 1700 Farnam St\, Omaha\, NE\, 68102\, United States
END:VEVENT
BEGIN:VEVENT
DTSTART;TZID=America/Chicago:20231017T173000
DTEND;TZID=America/Chicago:20231017T183000
DTSTAMP:20260423T092546
CREATED:20231009T204959Z
LAST-MODIFIED:20231009T204959Z
UID:3459-1697563800-1697567400@ewi-omaha.org
SUMMARY:Board Meeting
DESCRIPTION:EWI April Meeting
URL:https://ewi-omaha.org/event/board-meeting-5/
END:VEVENT
BEGIN:VEVENT
DTSTART;TZID=America/Chicago:20230927T173000
DTEND;TZID=America/Chicago:20230927T193000
DTSTAMP:20260423T092546
CREATED:20230718T213209Z
LAST-MODIFIED:20230912T160152Z
UID:3287-1695835800-1695843000@ewi-omaha.org
SUMMARY:Chapter Business Meeting - Installation of Board
DESCRIPTION:EWI April Meeting
URL:https://ewi-omaha.org/event/chapter-business-meeting-installation-of-board/
LOCATION:Luli Creative House\, 1901 Howard St\, Suite 401\, Omaha\, NE\, 68102\, United States
END:VEVENT
BEGIN:VEVENT
DTSTART;TZID=America/Chicago:20230921T170000
DTEND;TZID=America/Chicago:20230921T200000
DTSTAMP:20260423T092546
CREATED:20230804T175618Z
LAST-MODIFIED:20230804T175618Z
UID:3322-1695315600-1695326400@ewi-omaha.org
SUMMARY:Darlis Vauble Scholarship Fundraiser
DESCRIPTION:EWI April Meeting
URL:https://ewi-omaha.org/event/darlis-vauble-scholarship-fundraiser/
LOCATION:Vino Mas\, 14450 Eagle Run Drive\, Omaha\, NE\, 68116\, United States
END:VEVENT
BEGIN:VEVENT
DTSTART;TZID=America/Chicago:20230919T170000
DTEND;TZID=America/Chicago:20230919T183000
DTSTAMP:20260423T092546
CREATED:20230718T213006Z
LAST-MODIFIED:20230718T213324Z
UID:3285-1695142800-1695148200@ewi-omaha.org
SUMMARY:Board Meeting
DESCRIPTION:EWI April Meeting
URL:https://ewi-omaha.org/event/board-meeting-4/
LOCATION:Bland & Associates\, 450 Regency Parkway\, Suite 340\, Omaha\, NE\, 68114\, United States
END:VEVENT
BEGIN:VEVENT
DTSTART;TZID=America/Chicago:20230913T080000
DTEND;TZID=America/Chicago:20230916T170000
DTSTAMP:20260423T092546
CREATED:20230718T212930Z
LAST-MODIFIED:20230718T212930Z
UID:3282-1694592000-1694883600@ewi-omaha.org
SUMMARY:Leadership Conference & Annual Meeting (LCAM)
DESCRIPTION:EWI April Meeting
URL:https://ewi-omaha.org/event/leadership-conference-annual-meeting-lcam/
LOCATION:Chattanoogan Hotel\, 1201 Broad St\, Chattanooga\, TN\, 37402\, United States
END:VEVENT
BEGIN:VEVENT
DTSTART;TZID=America/Chicago:20230823T173000
DTEND;TZID=America/Chicago:20230823T200000
DTSTAMP:20260423T092546
CREATED:20230707T154058Z
LAST-MODIFIED:20230824T160220Z
UID:3240-1692811800-1692820800@ewi-omaha.org
SUMMARY:Executive Night - Dollars for Scholars
DESCRIPTION:EWI April Meeting
URL:https://ewi-omaha.org/event/executive-night-dollars-for-scholars/
LOCATION:UNMC Truhlsen Events Ctr\, 619 S 42nd St\, Omaha\, NE\, 68198\, United States
END:VEVENT
BEGIN:VEVENT
DTSTART;TZID=America/Chicago:20230815T173000
DTEND;TZID=America/Chicago:20230815T190000
DTSTAMP:20260423T092546
CREATED:20230707T153532Z
LAST-MODIFIED:20230707T153532Z
UID:3238-1692120600-1692126000@ewi-omaha.org
SUMMARY:Board Meeting
DESCRIPTION:EWI April Meeting
URL:https://ewi-omaha.org/event/board-meeting-3/
LOCATION:Bland & Associates\, 450 Regency Parkway\, Suite 340\, Omaha\, NE\, 68114\, United States
END:VEVENT
BEGIN:VEVENT
DTSTART;TZID=America/Chicago:20230727T120000
DTEND;TZID=America/Chicago:20230727T130000
DTSTAMP:20260423T092546
CREATED:20230706T210508Z
LAST-MODIFIED:20230706T213102Z
UID:3214-1690459200-1690462800@ewi-omaha.org
SUMMARY:Professional Development Webinar
DESCRIPTION:EWI April Meeting
URL:https://ewi-omaha.org/event/professional-development-webinar/
END:VEVENT
BEGIN:VEVENT
DTSTART;TZID=America/Chicago:20230726T173000
DTEND;TZID=America/Chicago:20230726T193000
DTSTAMP:20260423T092546
CREATED:20230706T201616Z
LAST-MODIFIED:20230706T202041Z
UID:3200-1690392600-1690399800@ewi-omaha.org
SUMMARY:Chapter Meeting
DESCRIPTION:EWI April Meeting
URL:https://ewi-omaha.org/event/july-chapter-meeting/
LOCATION:Fireside Banquet Room\, 841 Tara Plaza\, Papillion\, NE\, 68046\, United States
END:VEVENT
END:VCALENDAR