BEGIN:VCALENDAR
VERSION:2.0
PRODID:-//EWI of Omaha - ECPv6.15.20//NONSGML v1.0//EN
CALSCALE:GREGORIAN
METHOD:PUBLISH
X-ORIGINAL-URL:https://ewi-omaha.org
X-WR-CALDESC:Events for EWI of Omaha
REFRESH-INTERVAL;VALUE=DURATION:PT1H
X-Robots-Tag:noindex
X-PUBLISHED-TTL:PT1H
BEGIN:VTIMEZONE
TZID:America/Chicago
BEGIN:DAYLIGHT
TZOFFSETFROM:-0600
TZOFFSETTO:-0500
TZNAME:CDT
DTSTART:20250309T080000
END:DAYLIGHT
BEGIN:STANDARD
TZOFFSETFROM:-0500
TZOFFSETTO:-0600
TZNAME:CST
DTSTART:20251102T070000
END:STANDARD
BEGIN:DAYLIGHT
TZOFFSETFROM:-0600
TZOFFSETTO:-0500
TZNAME:CDT
DTSTART:20260308T080000
END:DAYLIGHT
BEGIN:STANDARD
TZOFFSETFROM:-0500
TZOFFSETTO:-0600
TZNAME:CST
DTSTART:20261101T070000
END:STANDARD
BEGIN:DAYLIGHT
TZOFFSETFROM:-0600
TZOFFSETTO:-0500
TZNAME:CDT
DTSTART:20270314T080000
END:DAYLIGHT
BEGIN:STANDARD
TZOFFSETFROM:-0500
TZOFFSETTO:-0600
TZNAME:CST
DTSTART:20271107T070000
END:STANDARD
END:VTIMEZONE
BEGIN:VEVENT
DTSTART;TZID=America/Chicago:20260422T173000
DTEND;TZID=America/Chicago:20260422T200000
DTSTAMP:20260421T072617
CREATED:20260409T010159Z
LAST-MODIFIED:20260409T010159Z
UID:7596-1776879000-1776888000@ewi-omaha.org
SUMMARY:April Chapter Meeting
DESCRIPTION:Our presenter for the evening is our own Sandy Spady! She will share with us her message of empowering women to tap into their own unique strengths to shine brightly in their personal and professional lives.
URL:https://ewi-omaha.org/event/april-chapter-meeting/
LOCATION:Dvorak Law Group\, 9500 W Dodge Rd. Ste 100\, Omaha\, NE\, 68114\, United States
END:VEVENT
END:VCALENDAR